BEGIN:VCALENDAR
VERSION:2.0
PRODID:icalendar-ruby
CALSCALE:GREGORIAN
METHOD:PUBLISH
BEGIN:VEVENT
DTSTAMP:20260420T020548Z
UID:61-460739@waterbrooke.church
DTSTART:20260509T140000Z
DTEND:20260509T170000Z
CLASS:PUBLIC
CREATED:20260409T092716
DESCRIPTION:\n\n\n\n\n\n\n\nOur annual Spring Cleanup will take place on Sa
 turday\, May 9\, from 9:00 a.m. to 12:00 p.m.\, with lunch to follow.\nWe
 ’d love your help in beautifying the property! Please bring gloves\, rak
 es\, garden tools\, and anything else that might be helpful.\nWe look forw
 ard to seeing you there! In case of rain\, the backup date is May 16.\n\n\
 n\n\n\n\n\n\n\n\n\n\n
LAST-MODIFIED:20260409T092716
LOCATION:Waterbrooke Church
SUMMARY:Spring Clean Up
URL;VALUE=URI:https://www.waterbrooke.church/events/spring-clean-up/2026-05
 -09
ATTACH;FILENAME=Copy-of-Spring-Cleanup.jpg;FMTTYPE=image/jpeg:https://dq5pw
 pg1q8ru0.cloudfront.net/2026/04/09/14/27/15/4244067c-0082-4ff7-b457-534582
 94581e/Copy-of-Spring-Cleanup.jpg
END:VEVENT
END:VCALENDAR
