BEGIN:VCALENDAR
VERSION:2.0
PRODID:icalendar-ruby
CALSCALE:GREGORIAN
METHOD:PUBLISH
BEGIN:VEVENT
DTSTAMP:20260420T020312Z
UID:59-461572@waterbrooke.church
DTSTART:20260503T163000Z
DTEND:20260503T183000Z
CLASS:PUBLIC
CREATED:20260409T132951
DESCRIPTION:Interested in learning about Covenant Partnership at Waterbrook
 e?\nReady to become Covenant Partner?\nThe next class is planned for Sunda
 y\, April 19\, after the second service.\nLunch will be provided. Please R
 SVP.
LAST-MODIFIED:20260409T132951
LOCATION:
SUMMARY:New Covenant Partner Class
URL;VALUE=URI:https://www.waterbrooke.church/events/new-covenant-partner-cl
 ass/2026-05-03
ATTACH;FILENAME=New-Covenant-Partner-Class.jpg;FMTTYPE=image/jpeg:https://d
 q5pwpg1q8ru0.cloudfront.net/2026/04/09/18/29/50/e3f99585-1352-458f-a0d4-84
 354dc440da/New-Covenant-Partner-Class.jpg
END:VEVENT
END:VCALENDAR
