BEGIN:VCALENDAR
VERSION:2.0
PRODID:icalendar-ruby
CALSCALE:GREGORIAN
METHOD:PUBLISH
BEGIN:VEVENT
DTSTAMP:20260420T082102Z
UID:41-487905@waterbrooke.church
DTSTART:20251005T160000Z
DTEND:20251005T173000Z
CLASS:PUBLIC
CREATED:20260420T023054
DESCRIPTION:Sunday school for students in K-4 is held during the second ser
 vice on Sundays\n\n - Kids will be dismissed during worship.\n - Mike 
 Savage and Joyce Casey will be teaching\n - Curriculum: "The Biggest Stor
 y" by Kevin DeYoung\n
LAST-MODIFIED:20260420T023054
LOCATION:Waterbrooke Church - Lower Level
SUMMARY:K-4th Grade Sunday School
URL;VALUE=URI:https://www.waterbrooke.church/events/k-4th-grade-sunday-scho
 ol/2025-10-05
ATTACH;FILENAME=1.jpg;FMTTYPE=image/jpeg:https://dq5pwpg1q8ru0.cloudfront.n
 et/2026/03/12/19/11/28/d5fc222d-0fb5-4232-829b-22bd173b4b87/1.jpg
END:VEVENT
END:VCALENDAR
