BEGIN:VCALENDAR
VERSION:2.0
PRODID:icalendar-ruby
CALSCALE:GREGORIAN
METHOD:PUBLISH
BEGIN:VEVENT
DTSTAMP:20260422T101434Z
UID:42-493062@waterbrooke.church
DTSTART:20260405T160000Z
DTEND:20260405T173000Z
CLASS:PUBLIC
CREATED:20260421T202111
DESCRIPTION:Sunday School for 5th &amp\; 6th Grade students will be held du
 ring the second service.\n\n\n\nThey will meet 1st and 3rd Sunday of each
  month\n\n\nMeet in the Farmhouse after being dismissed during the second 
 service.\n\n\nBruce Washington will be leading.\n\n\nTruth:78 curriculum\,
  “Fight the Good Fight”\n\n 
LAST-MODIFIED:20260421T202111
LOCATION:Waterbrooke Farmhouse 
SUMMARY:Grades 5 & 6 Sunday School
URL;VALUE=URI:https://www.waterbrooke.church/events/grades-5-6-sunday-schoo
 l/2026-04-05
ATTACH;FILENAME=2.jpg;FMTTYPE=image/jpeg:https://dq5pwpg1q8ru0.cloudfront.n
 et/2026/03/12/19/12/23/a98c02b9-5d4b-4fc4-baf7-0654d3dbe40f/2.jpg
END:VEVENT
END:VCALENDAR
